BEGIN:VCALENDAR
VERSION:2.0
PRODID:-//ChamberMaster//Event Calendar 2.0//EN
METHOD:PUBLISH
X-PUBLISHED-TTL:P3D
REFRESH-INTERVAL:P3D
CALSCALE:GREGORIAN
BEGIN:VEVENT
DTSTART:20190206T010000Z
DTEND:20190206T030000Z
X-MICROSOFT-CDO-ALLDAYEVENT:FALSE
SUMMARY:Bull Mountain Heating\, AC & Installation Ribbon Cutting
DESCRIPTION:Please join us for the ribbon cutting ceremony for Bull Mountain Heating\, AC & Installation! Enjoy light refreshments as we welcome a new business to our community! Come see their new location\, meet their employees\, enjoy some desserts\, beer from Stickmen Brewing Company\, and wine from Christopher Bridges. \n\n\n\nParking Directions: Please use the parking spots directly in front of the front door of Bull Mountain Heating. If the spots are filled\, please park at Bridgeport and walk over. Sorry for the inconvenience. Thank you!!
X-ALT-DESC;FMTTYPE=text/html:<span style="font-size:14px\;">Please join us for the ribbon cutting ceremony for Bull Mountain Heating\, AC &amp\; Installation! Enjoy light refreshments as we welcome a new business to our community! Come see their new location\, meet their employees\, enjoy some desserts\, beer from Stickmen Brewing Company\, and wine from Christopher Bridges.&nbsp\;<br />\n<br />\n<span style="color: rgb(29\, 33\, 41)\; font-family: Helvetica\, Arial\, sans-serif\;">Parking Directions: Please use the parking spots directly in front of the front door of Bull Mountain Heating. If the spots are filled\, please park at Bridgeport and walk over. Sorry for the inconvenience. Thank you!!</span></span>
LOCATION:17300 SW Upper Boones Ferry Rd #110 Portland\, OR 97224
UID:e.2305.10147
SEQUENCE:3
DTSTAMP:20260420T175825Z
URL:https://chamber.tualatinchamber.com/events/details/bull-mountain-heating-ac-installation-ribbon-cutting-10147
END:VEVENT

END:VCALENDAR
