BEGIN:VCALENDAR
VERSION:2.0
PRODID:-//ChamberMaster//Event Calendar 2.0//EN
METHOD:PUBLISH
X-PUBLISHED-TTL:P3D
REFRESH-INTERVAL:P3D
CALSCALE:GREGORIAN
BEGIN:VEVENT
DTSTART:20181108T230000Z
DTEND:20181109T030000Z
X-MICROSOFT-CDO-ALLDAYEVENT:FALSE
SUMMARY:Breast Friends Open House 2018
DESCRIPTION:Come see what Breast Friends is all about. Meet the Co-Founders\, Becky & Sharon\, the board\, the staff and volunteers. Join us as we recognize our partners who helped raise funds in October.\n\n\n\nFood catered by Olive Garden\n\nDoor Prize Drawings Each Hour\n\n\n\nRSVP by November 5th at 503.598.8048 or online RSVP
X-ALT-DESC;FMTTYPE=text/html:Come see what Breast Friends is all about. Meet the Co-Founders\, Becky &amp\; Sharon\, the board\, the staff and volunteers. Join us as we recognize our partners who helped raise funds in October.<br />\n<br />\nFood catered by Olive Garden<br />\nDoor Prize Drawings Each Hour<br />\n<br />\nRSVP by November 5th at 503.598.8048 or online <a href="https://www.breastfriends.org/open-house-rsvp/">RSVP</a><br />\n&nbsp\;
LOCATION:Breast Friends Office 14050 SW Pacific Hwy\, Ste 201 Tigard OR 97224
UID:e.2305.9993
SEQUENCE:3
DTSTAMP:20260420T153409Z
URL:https://chamber.tualatinchamber.com/events/details/breast-friends-open-house-2018-9993
END:VEVENT

END:VCALENDAR
