BEGIN:VCALENDAR
VERSION:2.0
PRODID:-//ChamberMaster//Event Calendar 2.0//EN
METHOD:PUBLISH
X-PUBLISHED-TTL:P3D
REFRESH-INTERVAL:P3D
CALSCALE:GREGORIAN
BEGIN:VEVENT
DTSTART:20181114T023000Z
DTEND:20181114T040000Z
X-MICROSOFT-CDO-ALLDAYEVENT:FALSE
SUMMARY:Boosting Your Immune System Naturally
DESCRIPTION:Let's gear up for the fall and winter cold season by arming our bodies with IMMUNITY. Essential oild have been proven to boost your immune system naturally. Have you ever wanted to know what the difference between different brands are? Have you ever wondered why you should be using essential oil? Come learn the difference of essential oils and how to take care of yourself naturally using doTERRA's CPTG essential oils. You will learn why you should use essential oils\, how to use them\, and which ones will be the best ones to boost your immune system to naturally take care of yourself and your family.
X-ALT-DESC;FMTTYPE=text/html:<span style="background-color:rgb(255\, 255\, 255)\; color:rgb(111\, 114\, 135)\; font-family:neue plak\,-apple-system\,blinkmacsystemfont\,roboto\,helvetica neue\,helvetica\,tahoma\,arial\,sans-serif\; font-size:15px">Let&#39\;s gear up for the fall and winter cold season by arming our bodies with IMMUNITY. Essential oild have been proven to boost your immune system naturally. Have you ever wanted to know what the difference between different brands are? Have you ever wondered why you should be using essential oil? Come learn the difference of essential oils and how to take care of yourself naturally using doTERRA&#39\;s CPTG essential oils. You will learn why you should use essential oils\, how to use them\, and which ones will be the best ones to boost your immune system to naturally take care of yourself and your family.</span>
LOCATION:RAW Essential Oils (inside The Upper Cervical Clinic) 7180 SW Fir Loop STE 250 Tigard. OR 97223
UID:e.2305.9997
SEQUENCE:3
DTSTAMP:20260420T170820Z
URL:https://chamber.tualatinchamber.com/events/details/boosting-your-immune-system-naturally-9997
END:VEVENT

END:VCALENDAR
