BEGIN:VCALENDAR
VERSION:2.0
PRODID:-//ChamberMaster//Event Calendar 2.0//EN
METHOD:PUBLISH
X-PUBLISHED-TTL:P3D
REFRESH-INTERVAL:P3D
CALSCALE:GREGORIAN
BEGIN:VEVENT
DTSTART:20181130T000000Z
DTEND:20181130T030000Z
X-MICROSOFT-CDO-ALLDAYEVENT:FALSE
SUMMARY:Boones Landing Physical Therapy Grand Opening and Ribbon Cutting
DESCRIPTION:You are inviited to our Grand Opening and Ribbon Cutting!  Appetizers and Refreshments
X-ALT-DESC;FMTTYPE=text/html:You are inviited to our Grand Opening and Ribbon Cutting!&nbsp\; Appetizers and Refreshments
LOCATION:Boones Landing Physical Therapy 29174 SW Town Center Loop W Ste 202 Wilsonville\, OR 97070
UID:e.2305.9998
SEQUENCE:3
DTSTAMP:20260420T154923Z
URL:https://chamber.tualatinchamber.com/events/details/boones-landing-physical-therapy-grand-opening-and-ribbon-cutting-11-29-2018-9998
END:VEVENT

END:VCALENDAR
