BEGIN:VCALENDAR
VERSION:2.0
PRODID:-//ChamberMaster//Event Calendar 2.0//EN
METHOD:PUBLISH
X-PUBLISHED-TTL:P3D
REFRESH-INTERVAL:P3D
CALSCALE:GREGORIAN
BEGIN:VEVENT
DTSTART:20181115T013000Z
DTEND:20181115T033000Z
X-MICROSOFT-CDO-ALLDAYEVENT:FALSE
SUMMARY:Body in Balance Wellness Center Grand Opening & Ribbon Cutting
DESCRIPTION:Dr. Guthrie has been a chiropractor for 20 years. Join us and the Lake Oswego Chamber of Commerce to celebrate the grand opening and ribbon cutting of their new location!\n\n\n\nThere are many people who have made this practice possible\, and we look forward to celebrating them and Dr. Guthrie's accomplishments. Open to all\, bring friends and family. Enjoy delicious wine\, appetizers\, and desserts from Blue Moon Coffee. You do not want to miss this event.\n\n\n\nThere will be raffle prizes\, and the more guests you bring the more tickets you get!
X-ALT-DESC;FMTTYPE=text/html:<span style="color: rgb(29\, 33\, 41)\; font-family: Helvetica\, Arial\, sans-serif\; font-size: 14px\;">Dr. Guthrie has been a chiropractor for 20 years. Join us and the Lake Oswego Chamber of Commerce to celebrate the grand opening and ribbon cutting of their new location!<br />\n<br />\nThere are many people who have made this practice possible\, and we look forward to celebrating them and Dr. Guthrie&#39\;s accomplishments. Open to all\, bring friends and family. Enjoy delicious wine\, appetizers\, and desserts from Blue Moon Coffee. You do not want to miss this event.<br />\n<br />\nThere will be raffle prizes\, and the more guests you bring the more tickets you get!&nbsp\;</span>
LOCATION:7360 SW Hunziker\, Suite 203 Tigard\, OR 97223
UID:e.2305.9990
SEQUENCE:3
DTSTAMP:20260420T155024Z
URL:https://chamber.tualatinchamber.com/events/details/body-in-balance-wellness-center-grand-opening-ribbon-cutting-9990
END:VEVENT

END:VCALENDAR
