BEGIN:VCALENDAR
VERSION:2.0
PRODID:-//ChamberMaster//Event Calendar 2.0//EN
METHOD:PUBLISH
X-PUBLISHED-TTL:P3D
REFRESH-INTERVAL:P3D
CALSCALE:GREGORIAN
BEGIN:VEVENT
DTSTART:20180928T160000Z
DTEND:20180928T220000Z
X-MICROSOFT-CDO-ALLDAYEVENT:FALSE
SUMMARY:Blood Drive - Miller Insurance
DESCRIPTION:An emergency blood shortage is prompting the American Red Cross to issue an urgent call for eligible donors of all blood types   especially type O   to give now and help save lives.\n\n \n\nMiller Insurance is sponsoring an American Red Cross Blood Drive on Friday\, September 28th. To schedule an appointment\, call Miller Insurance at 503-692-6580 or visit www.redcrossblood.org and enter sponsor code: MillerInsuranceOR. \n\n \n\nAll presenting donors will receive a $5 Dutch Bros. gift card\, courtesy of Dutch Bros. Coffee of Tualatin Oregon
X-ALT-DESC;FMTTYPE=text/html:<p><span style="font-family:arial\;"><span style="font-size:10.0pt\;">An emergency blood shortage is prompting the American Red Cross to issue an urgent call for eligible donors of all blood types &ndash\; especially type O &ndash\; to give now and help save lives.</span><br />\n&nbsp\;<br />\n<span style="font-size:10.0pt\;">Miller Insurance is sponsoring an American Red Cross Blood Drive on Friday\, September 28<sup>th</sup>. To schedule an appointment\, call Miller Insurance at 503-692-6580 or visit <a href="https://linkprotect.cudasvc.com/url?a=http%3a%2f%2fwww.redcrossblood.org&amp\;c=E\,1\,O-jtjQ9B6dk-LBwrwtzH0VE6Uo0ktdSKAdjtkDB5f9T1_ZlUuAhir7T6yrArwmEvIC9Y38AWk9ITxaqlb3yIE892x__jbdMDGl-iQ3V59x-JJGkg&amp\;typo=1">www.redcrossblood.org</a> and enter sponsor code: MillerInsuranceOR. </span><br />\n&nbsp\;<br />\n<span style="font-size:10.0pt\;">All presenting donors will receive a $5 Dutch Bros. gift card\, courtesy of Dutch Bros. Coffee of Tualatin Oregon</span></span></p>\n
LOCATION:Lakeside Center 8100 SW Nyberg St\, Tualatin OR 97062 (Across the street from the Chamber)
UID:e.2305.9948
SEQUENCE:3
DTSTAMP:20260420T121713Z
URL:https://chamber.tualatinchamber.com/events/details/blood-drive-miller-insurance-9948
END:VEVENT

END:VCALENDAR
