BEGIN:VCALENDAR
VERSION:2.0
PRODID:-//ChamberMaster//Event Calendar 2.0//EN
METHOD:PUBLISH
X-PUBLISHED-TTL:P3D
REFRESH-INTERVAL:P3D
CALSCALE:GREGORIAN
BEGIN:VEVENT
DTSTART:20181025T233000Z
DTEND:20181026T013000Z
X-MICROSOFT-CDO-ALLDAYEVENT:FALSE
SUMMARY:Avanti Restaurant Grand Opening & Ribbon Cutting
DESCRIPTION:Please join us for the ribbon cutting ceremony and grand opening of Avanti Restaurant. Enjoy light refreshments as we welcome a new business to our community! \n\n\n\nA life-long dream of chef/owner Mark Carruth and his soulmate Jeanne Schneider has become a reality at the corner of Nyberg and Martinazzi in Tualatin\, Oregon. \n\n\n\nAfter spending most of their lives working in restaurants\, this talented and personable couple has launched a small\, unique\, upscale\, family restaurant and bar that provides all of the following and more. \n\n\n\nExcellent appetizers\, soups\, salads\, and entrees created\, prepared\, and plated by Chef Mark\;\n\nA relaxing atmosphere for lunch\, happy hour\, and dinner\, where both Mark and Jeanne take pride in visiting with and getting to know their customers and a new go-to "date night" destination\, yet one that is also enjoyed by families with children.\n\n\n\nWine selection and value that will not disappoint. Same can be said for the cocktails!\n\nAvanti (come in!) and experience an exceptional culinary experience. You'll be glad you did!
X-ALT-DESC;FMTTYPE=text/html:<span style="font-size:14px\;"><span style="font-family:arial\;"><span style="color: rgb(68\, 68\, 68)\; background-color: rgb(247\, 247\, 247)\;">Please join us for the ribbon cutting ceremony and grand opening of Avanti Restaurant. Enjoy light refreshments as we welcome a new business to our community!&nbsp\;</span><br />\n<br />\n<span style="color:black\;">A life-long dream of chef/owner Mark Carruth and his soulmate Jeanne Schneider has become a reality at the corner of Nyberg and Martinazzi in Tualatin\, Oregon.&nbsp\;</span><br />\n<br />\n<span style="color:black\;">After spending most of their lives working in restaurants\, this talented and personable couple has launched a small\, unique\, upscale\, family restaurant and bar that provides all of the following and more.&nbsp\;</span><br />\n<br />\n<span style="color:black\;">Excellent appetizers\, soups\, salads\, and entrees created\, prepared\, and plated by Chef Mark\;</span><br />\n<span style="color:black\;">A relaxing atmosphere for lunch\, happy hour\, and dinner\, where both Mark and Jeanne take pride in visiting with and getting to know their customers and a</span><span style="color:black\;">&nbsp\;new go-to &quot\;date night&quot\; destination\, yet one that is also enjoyed by families with children.</span><br />\n<br />\n<span style="color:black\;">Wine selection and value that will not disappoint. Same can be said for the cocktails!</span><br />\n<span style="color:black\;">Avanti (come in!) and experience an exceptional culinary experience. You&rsquo\;ll be glad you did!</span></span></span><br />\n&nbsp\;
LOCATION:7995 SW Nyberg St Tualatin\, OR 97062
UID:e.2305.9959
SEQUENCE:3
DTSTAMP:20260420T153655Z
URL:https://chamber.tualatinchamber.com/events/details/avanti-restaurant-grand-opening-ribbon-cutting-9959
END:VEVENT

END:VCALENDAR
