BEGIN:VCALENDAR
VERSION:2.0
PRODID:-//ChamberMaster//Event Calendar 2.0//EN
METHOD:PUBLISH
X-PUBLISHED-TTL:P3D
REFRESH-INTERVAL:P3D
CALSCALE:GREGORIAN
BEGIN:VEVENT
DTSTART:20181102T011500Z
DTEND:20181102T031500Z
X-MICROSOFT-CDO-ALLDAYEVENT:FALSE
SUMMARY:Ask Frank - Meet the Candidate!
DESCRIPTION:Do you want to get to know who's running for Mayor? Have you got questions about Tualatin or any of the measures on the ballot? Are there issues that concern you? \n\n\n\nWell here's your chance to meet and get to know City Councilor and Mayoral Candidate Frank Bubenik. He welcomes your questions! \n\n\n\nBring your questions. Get some answers. #AskFrank
X-ALT-DESC;FMTTYPE=text/html:<span style="background-color:rgb(255\, 255\, 255)\; color:rgb(29\, 33\, 41)\; font-family:helvetica\,arial\,sans-serif\; font-size:14px">Do you want to get to know who&#39\;s running for Mayor? Have you got questions about Tualatin or any of the measures on the ballot? Are there issues that concern you?&nbsp\;</span><br />\n<br />\n<span style="background-color:rgb(255\, 255\, 255)\; color:rgb(29\, 33\, 41)\; font-family:helvetica\,arial\,sans-serif\; font-size:14px">Well here&#39\;s your chance to meet and get to know City Councilor and Mayoral Candidate Frank Bubenik. He welcomes your questions!&nbsp\;</span><br />\n<br />\n<span style="background-color:rgb(255\, 255\, 255)\; color:rgb(29\, 33\, 41)\; font-family:helvetica\,arial\,sans-serif\; font-size:14px">Bring your questions. Get some answers.&nbsp\;</span><a href="https://www.facebook.com/hashtag/askfrank" style="color: rgb(54\, 88\, 153)\; cursor: pointer\; text-decoration-line: none\; font-family: Helvetica\, Arial\, sans-serif\; font-size: 14px\; background-color: rgb(255\, 255\, 255)\;" target="_blank">#AskFrank</a>
LOCATION:Izumi Japanese Steakhouse 8125 SW Nyberg St.\, Tualatin
UID:e.2305.9988
SEQUENCE:3
DTSTAMP:20260420T152800Z
URL:https://chamber.tualatinchamber.com/events/details/ask-frank-meet-the-candidate-9988
END:VEVENT

END:VCALENDAR
