BEGIN:VCALENDAR
VERSION:2.0
PRODID:-//ChamberMaster//Event Calendar 2.0//EN
METHOD:PUBLISH
X-PUBLISHED-TTL:P3D
REFRESH-INTERVAL:P3D
CALSCALE:GREGORIAN
BEGIN:VEVENT
DTSTART;VALUE=DATE:20181013
DTEND;VALUE=DATE:20181015
TRANSP:TRANSPARENT
X-MICROSOFT-CDO-ALLDAYEVENT:TRUE
SUMMARY:Art In The Burbs
DESCRIPTION:Local Artists Help Student Artists During Art in the Burbs Festival: October 13-14 Enjoy original works from over 85 juried artists'\, all available for sale. You will find jewelry\, ceramics\, exterior art\, cards\, textiles and more. Delicious Portland food trucks\, live musical entertainment and a student art gallery will also be at the show. Tualatin High School is the new location for the annual Art in the Burbs Festival event. Last year\, the event raised $35\,600 for student art programs. The non-profit program raises funds through a 20% commission on all sales during the 2-day arts event. Event proceeds support performing and fine art programs in all Tigard-Tualatin schools (elementary\, middle and high school). Grants are awarded to each school to use exclusively for Arts programs\, including music\, fine art\, performing art\, and writing.
X-ALT-DESC;FMTTYPE=text/html:Local Artists Help Student Artists During Art in the Burbs Festival: October 13-14 Enjoy original works from over 85 juried artists&rsquo\;\, all available for sale. You will find jewelry\, ceramics\, exterior art\, cards\, textiles and more. Delicious Portland food trucks\, live musical entertainment and a student art gallery will also be at the show. Tualatin High School is the new location for the annual Art in the Burbs Festival event. Last year\, the event raised $35\,600 for student art programs. The non-profit program raises funds through a 20% commission on all sales during the 2-day arts event. Event proceeds support performing and fine art programs in all Tigard-Tualatin schools (elementary\, middle and high school). Grants are awarded to each school to use exclusively for Arts programs\, including music\, fine art\, performing art\, and writing.
LOCATION:Tualatin High School 22300 SW Boones Ferry Rd. Tualatin\, OR
UID:e.2305.9951
SEQUENCE:3
DTSTAMP:20260420T135211Z
URL:https://chamber.tualatinchamber.com/events/details/art-in-the-burbs-10-13-2018-9951
END:VEVENT

END:VCALENDAR
