BEGIN:VCALENDAR
VERSION:2.0
PRODID:-//ChamberMaster//Event Calendar 2.0//EN
METHOD:PUBLISH
X-PUBLISHED-TTL:P3D
REFRESH-INTERVAL:P3D
CALSCALE:GREGORIAN
BEGIN:VEVENT
DTSTART:20190112T180000Z
DTEND:20190112T190000Z
X-MICROSOFT-CDO-ALLDAYEVENT:FALSE
SUMMARY:American Association of University Women: Women Veterans Intentional Inclusion
DESCRIPTION:Elizabeth Estabrooks: "Women Veterans and Intentional Inclusion" Estabrooks is the Oregon Women's Veterans Coordinator and an army veteran. She will discuss the unique needs of women veterans. Free\, no tickets needed. Public is Welcome!
X-ALT-DESC;FMTTYPE=text/html:Elizabeth Estabrooks: &quot\;Women Veterans and Intentional Inclusion&quot\; Estabrooks is the Oregon Women&#39\;s Veterans Coordinator and an army veteran. She will discuss the unique needs of women veterans. Free\, no tickets needed. Public is Welcome!
LOCATION:Oswego Heritage House 398 10th St. Lake Oswego\, OR 97035
UID:e.2305.10077
SEQUENCE:3
DTSTAMP:20260420T195642Z
URL:https://chamber.tualatinchamber.com/events/details/american-association-of-university-women-women-veterans-intentional-inclusion-10077
END:VEVENT

END:VCALENDAR
