BEGIN:VCALENDAR
VERSION:2.0
PRODID:-//ChamberMaster//Event Calendar 2.0//EN
METHOD:PUBLISH
X-PUBLISHED-TTL:P3D
REFRESH-INTERVAL:P3D
CALSCALE:GREGORIAN
BEGIN:VEVENT
DTSTART:20190209T183000Z
DTEND:20190209T200000Z
X-MICROSOFT-CDO-ALLDAYEVENT:FALSE
SUMMARY:American Association of University Women presents Luis Balderas-Villagrana
DESCRIPTION:The Lake Oswego Reads book is "The Book of Unknown Americans" which is about the lives of immigrants to the U.S. As part of this LO Reads event\, Luis Balderas-Villagrana\, Deferred Action for Childhood Arrivals participant\, will discuss his story\, hopes and dreams in "A Conversation with a "Dreamer".
X-ALT-DESC;FMTTYPE=text/html:The Lake Oswego Reads book is &quot\;The Book of Unknown Americans&quot\; which is about the lives of immigrants to the U.S. As part of this LO Reads event\, Luis Balderas-Villagrana\, Deferred Action for Childhood Arrivals participant\, will discuss his story\, hopes and dreams in &quot\;A Conversation with a &quot\;Dreamer&quot\;.
LOCATION:Oswego Heritage House 98 10th St. Lake Oswego\, OR 97034
UID:e.2305.10149
SEQUENCE:3
DTSTAMP:20260420T163407Z
URL:https://chamber.tualatinchamber.com/events/details/american-association-of-university-women-presents-luis-balderas-villagrana-10149
END:VEVENT

END:VCALENDAR
