BEGIN:VCALENDAR
VERSION:2.0
PRODID:-//ChamberMaster//Event Calendar 2.0//EN
METHOD:PUBLISH
X-PUBLISHED-TTL:P3D
REFRESH-INTERVAL:P3D
CALSCALE:GREGORIAN
BEGIN:VEVENT
DTSTART:20180908T170000Z
DTEND:20180908T183000Z
X-MICROSOFT-CDO-ALLDAYEVENT:FALSE
SUMMARY:American Association of University Women Presents Barbara Spencer\, Chair of Oregon Commission for Women
DESCRIPTION:AAUW Lake Oswego presents Barbara Spencer\, Chair of the Oregon Commission for Women on: "Working to Promote Equity for Women and Girls."
X-ALT-DESC;FMTTYPE=text/html:AAUW Lake Oswego presents Barbara Spencer\, Chair of the Oregon Commission for Women on: &quot\;Working to Promote Equity for Women and Girls.&quot\;
LOCATION:Oswego Heritage House 398 10th St. Lake Oswego\, OR 97034
UID:e.2305.9944
SEQUENCE:3
DTSTAMP:20260420T135848Z
URL:https://chamber.tualatinchamber.com/events/details/american-association-of-university-women-presents-barbara-spencer-chair-of-oregon-commission-for-women-9944
END:VEVENT

END:VCALENDAR
