BEGIN:VCALENDAR
VERSION:2.0
PRODID:-//ChamberMaster//Event Calendar 2.0//EN
METHOD:PUBLISH
X-PUBLISHED-TTL:P3D
REFRESH-INTERVAL:P3D
CALSCALE:GREGORIAN
BEGIN:VEVENT
DTSTART:20181013T170000Z
DTEND:20181013T183000Z
X-MICROSOFT-CDO-ALLDAYEVENT:FALSE
SUMMARY:American Association of University Women Lake Oswego
DESCRIPTION:AAUW Lake Oswego presents the League of Women Voters discussing the Oregon Ballot Measures.
X-ALT-DESC;FMTTYPE=text/html:AAUW Lake Oswego presents the League of Women Voters discussing the Oregon Ballot Measures.
LOCATION:Oswego Heritage House 398 10th St. Lake Oswego\, OR 97035
UID:e.2305.9952
SEQUENCE:3
DTSTAMP:20260420T135816Z
URL:https://chamber.tualatinchamber.com/events/details/american-association-of-university-women-lake-oswego-9952
END:VEVENT

END:VCALENDAR
