BEGIN:VCALENDAR
VERSION:2.0
PRODID:-//ChamberMaster//Event Calendar 2.0//EN
METHOD:PUBLISH
X-PUBLISHED-TTL:P3D
REFRESH-INTERVAL:P3D
CALSCALE:GREGORIAN
BEGIN:VEVENT
DTSTART:20190406T163000Z
DTEND:20190406T190000Z
X-MICROSOFT-CDO-ALLDAYEVENT:FALSE
SUMMARY:American Association of University Women-Jackie Sandmeyer
DESCRIPTION:Jackie Sandmeyer\, founder of TIX Education Specialists\, will speak on Title IX -Bridging Compliance and Best Practices. All are welcome to this free event\, no tickets needed.
X-ALT-DESC;FMTTYPE=text/html:Jackie Sandmeyer\, founder of TIX Education Specialists\, will speak on Title IX -Bridging Compliance and Best Practices. All are welcome to this free event\, no tickets needed.
LOCATION:Oswego Heritage House 98 10th St. Lake Oswego\, OR 97034
UID:e.2305.10189
SEQUENCE:3
DTSTAMP:20260420T132737Z
URL:https://chamber.tualatinchamber.com/events/details/american-association-of-university-women-jackie-sandmeyer-10189
END:VEVENT

END:VCALENDAR
