BEGIN:VCALENDAR
VERSION:2.0
PRODID:-//ChamberMaster//Event Calendar 2.0//EN
METHOD:PUBLISH
X-PUBLISHED-TTL:P3D
REFRESH-INTERVAL:P3D
CALSCALE:GREGORIAN
BEGIN:VEVENT
DTSTART:20280808T150000Z
DTEND:20280808T160000Z
X-MICROSOFT-CDO-ALLDAYEVENT:FALSE
SUMMARY:Ambassador Committee Meeting - Monthly
DESCRIPTION:Monthly Chamber Ambassador Meeting! Interested in becoming a Ambassador? Contact the office.
X-ALT-DESC;FMTTYPE=text/html:Monthly Chamber Ambassador Meeting! Interested in becoming a Ambassador? Contact the office.
LOCATION:
UID:e.2305.13203
SEQUENCE:3
DTSTAMP:20260424T155228Z
URL:https://chamber.tualatinchamber.com/events/details/ambassador-committee-meeting-monthly-08-08-2028-13203
END:VEVENT

END:VCALENDAR
