BEGIN:VCALENDAR
VERSION:2.0
PRODID:-//ChamberMaster//Event Calendar 2.0//EN
METHOD:PUBLISH
X-PUBLISHED-TTL:P3D
REFRESH-INTERVAL:P3D
CALSCALE:GREGORIAN
BEGIN:VEVENT
DTSTART:20181109T153000Z
DTEND:20181109T170000Z
X-MICROSOFT-CDO-ALLDAYEVENT:FALSE
SUMMARY:AM Networking - Tualatin School House Pantry
DESCRIPTION:Join us for our most popular networking event!\n\n\n\nOur hosts are: Joanne Clayton & Mary Goldsher with Tualatin School House Pantry\n\n\n\nPlease join us for great networking\, a light continental breakfast\, raffle prizes and more. Find out why we've been called the friendliest Chamber in the Metro Region. Guests are always welcome but be sure to bring lots of business cards.
X-ALT-DESC;FMTTYPE=text/html:Join us for our most popular networking event!<br />\n<br />\nOur hosts are: Joanne Clayton &amp\; Mary Goldsher with Tualatin School House Pantry<br />\n<br />\n<em>Please join us for great networking\, a light continental breakfast\, raffle prizes and more. Find out why we&#39\;ve been called the friendliest Chamber in the Metro Region. Guests are always welcome but be sure to bring lots of business cards.</em>
LOCATION:Tualatin School House Pantry 3550 SW Borland Rd Tualatin\, OR 97062
UID:e.2305.9964
SEQUENCE:3
DTSTAMP:20260420T154206Z
URL:https://chamber.tualatinchamber.com/events/details/am-networking-tualatin-school-house-pantry-11-09-2018-9964
END:VEVENT

END:VCALENDAR
