BEGIN:VCALENDAR
VERSION:2.0
PRODID:-//ChamberMaster//Event Calendar 2.0//EN
METHOD:PUBLISH
X-PUBLISHED-TTL:P3D
REFRESH-INTERVAL:P3D
CALSCALE:GREGORIAN
BEGIN:VEVENT
DTSTART:20240802T143000Z
DTEND:20240802T160000Z
X-MICROSOFT-CDO-ALLDAYEVENT:FALSE
SUMMARY:AM Networking - The Garden Corner
DESCRIPTION:Join us for our most popular Networking Event and #getconnected!\n\n\n\nWhat is AM Networking?!\n\nIt's the best opportunity to network and discuss current issues\, learn about one of our local Member businesses\, receive updates on Chamber news and events\, share member announcements\, and give SHOUT-OUTS to the business community!\n\n\n\nChamber Members and guests are welcome to attend\, so come find out how we're helping Tualatin businesses succeed!
X-ALT-DESC;FMTTYPE=text/html:<strong style="color: rgb(51\, 51\, 51)\; font-family: sans-serif\, Arial\, Verdana\, &quot\;Trebuchet MS&quot\;\; font-size: 13px\;"><span style="color: mediumblue\;"><span style="font-family: arial\, sans-serif\;"><span style="font-size: 11pt\;">Join us for our most popular Networking Event and #getconnected!</span></span></span></strong><br style="color: rgb(51\, 51\, 51)\; font-family: sans-serif\, Arial\, Verdana\, &quot\;Trebuchet MS&quot\;\; font-size: 13px\;" />\n<br style="color: rgb(51\, 51\, 51)\; font-family: sans-serif\, Arial\, Verdana\, &quot\;Trebuchet MS&quot\;\; font-size: 13px\;" />\n<span style="color: rgb(51\, 51\, 51)\; font-size: 13px\; font-family: arial\, sans-serif\;"><span style="font-size: 10pt\;"><strong>What is AM Networking?!</strong><br />\nIt&#39\;s the best opportunity to network and discuss current issues\, learn about one of our local Member businesses\, receive updates on Chamber news and events\, share member announcements\, and give SHOUT-OUTS to the business community!<br />\n<br />\n<u>Chamber Members and guests are welcome to attend</u>\, so come find out how we&rsquo\;re helping Tualatin businesses succeed!</span></span>
LOCATION:21550 SW 108th Ave Tualatin OR 97062
UID:e.2305.12991
SEQUENCE:3
DTSTAMP:20260422T122922Z
URL:https://chamber.tualatinchamber.com/events/details/am-networking-the-garden-corner-12991
END:VEVENT

END:VCALENDAR
