BEGIN:VCALENDAR
VERSION:2.0
PRODID:-//ChamberMaster//Event Calendar 2.0//EN
METHOD:PUBLISH
X-PUBLISHED-TTL:P3D
REFRESH-INTERVAL:P3D
CALSCALE:GREGORIAN
BEGIN:VEVENT
DTSTART:20190729T130000Z
DTEND:20190729T210000Z
X-MICROSOFT-CDO-ALLDAYEVENT:FALSE
SUMMARY:2019 Breast Friends 11th Annual Golf Tournament
DESCRIPTION:Breast Friends 11th Breast Friends Annual Tournament. A four-person scramble.\n\nPrizes in three divisions - Men's - Women's - Mixed\n\nDoor prizes\, Auction and Awards Presentation Luncheon
X-ALT-DESC;FMTTYPE=text/html:<p>Breast Friends 11th Breast Friends Annual Tournament. A four-person scramble.<br />\nPrizes in three divisions - Men&#39\;s - Women&#39\;s - Mixed<br />\nDoor prizes\, Auction and Awards Presentation Luncheon</p>\n
LOCATION:Stone Creek Golf Club 14603 Stoneridge Dr Oregon City OR 97045
UID:e.2305.10163
SEQUENCE:3
DTSTAMP:20260420T080631Z
URL:https://chamber.tualatinchamber.com/events/details/11th-breast-friends-annual-golf-tournament-10163
END:VEVENT

END:VCALENDAR
